BEGIN:VCALENDAR
VERSION:2.0
CALSCALE:GREGORIAN
PRODID:-//Diputació de Barcelona//DibaCMS//EN
BEGIN:VEVENT
UID:3255
DTSTAMP:20260422T075609
DTSTART:20180326T203000
DTEND:20180326T213000
SUMMARY:Celebració comunitària del perdó
LOCATION:
METHOD:PUBLISH
X-WR-CALNAME:capellades@capellades.cat
X-WR-TIMEZONE:Europe/Madrid
DESCRIPTION:El Dilluns Sant es farà l'església de Santa Maria de Capellades la Celebració Comunitària del Perdó.

URI:https://www.capellades.cat/actualitat/agenda/celebracio-comunitaria-del-perdo.html
CLASS:PUBLIC
END:VEVENT
END:VCALENDAR
