BEGIN:VCALENDAR
VERSION:2.0
CALSCALE:GREGORIAN
PRODID:-//Diputació de Barcelona//DibaCMS//EN
BEGIN:VEVENT
UID:3253
DTSTAMP:20260422T053605
DTSTART:20180325T110000
DTEND:20180325T190000
SUMMARY:Diumenge de Rams 
LOCATION:
METHOD:PUBLISH
X-WR-CALNAME:capellades@capellades.cat
X-WR-TIMEZONE:Europe/Madrid
DESCRIPTION:El diumenge de Rams es farà primer la benedicció davant l'església i seguidament, a les 11, s'iniciarà la missa.

URI:https://www.capellades.cat/actualitat/agenda/diumenge-de-rams-.html
CLASS:PUBLIC
END:VEVENT
END:VCALENDAR
