BEGIN:VCALENDAR
VERSION:2.0
CALSCALE:GREGORIAN
PRODID:-//Diputació de Barcelona//DibaCMS//EN
BEGIN:VEVENT
UID:3246
DTSTAMP:20260422T070659
DTSTART:20180326T160000
DTEND:20180328T180000
SUMMARY:Taller d'iniciació a la robòtica
LOCATION:C/ Pilar, 2 08786 Capellades
METHOD:PUBLISH
X-WR-CALNAME:capellades@capellades.cat
X-WR-TIMEZONE:Europe/Madrid
DESCRIPTION:La Biblioteca El Safareig proposa un taller d'iniciació a la robòtica per a nens i nenes a partir de 9 anys.

URI:https://www.capellades.cat/actualitat/agenda/taller-diniciacio-a-la-robotica.html
CLASS:PUBLIC
END:VEVENT
END:VCALENDAR
