BEGIN:VCALENDAR
VERSION:2.0
CALSCALE:GREGORIAN
PRODID:-//Diputació de Barcelona//DibaCMS//EN
BEGIN:VEVENT
UID:3245
DTSTAMP:20260422T093242
DTSTART:20180329T093000
DTEND:20180309T120000
SUMMARY:Caminades del Mou-te
LOCATION:
METHOD:PUBLISH
X-WR-CALNAME:capellades@capellades.cat
X-WR-TIMEZONE:Europe/Madrid
DESCRIPTION:Nova edició de les caminades pels voltants de Capellades proposades des del CAP Capellades.

URI:https://www.capellades.cat/actualitat/agenda/caminades-del-mou-te.html
CLASS:PUBLIC
END:VEVENT
END:VCALENDAR
