BEGIN:VCALENDAR
VERSION:2.0
CALSCALE:GREGORIAN
PRODID:-//Diputació de Barcelona//DibaCMS//EN
BEGIN:VEVENT
UID:3244
DTSTAMP:20260422T075024
DTSTART:20180325T110000
DTEND:20180325T130000
SUMMARY:Benedicció de Rams i Missa de Rams
LOCATION:
METHOD:PUBLISH
X-WR-CALNAME:capellades@capellades.cat
X-WR-TIMEZONE:Europe/Madrid
DESCRIPTION:El diumenge de Rams es celebrarà a Capellades amb la benedicció davant l'església, a les 11 del matí. Seguidament, començarà l'ofici.

URI:https://www.capellades.cat/actualitat/agenda/benediccio-de-rams-i-missa-de-rams.html
CLASS:PUBLIC
END:VEVENT
END:VCALENDAR
