BEGIN:VCALENDAR
VERSION:2.0
CALSCALE:GREGORIAN
PRODID:-//Diputació de Barcelona//DibaCMS//EN
BEGIN:VEVENT
UID:3243
DTSTAMP:20260422T005901
DTSTART:20180324T061500
DTEND:20180324T200000
SUMMARY:Excursió de la Penya Blaugrana a la Maternitat d'Elna
LOCATION:
METHOD:PUBLISH
X-WR-CALNAME:capellades@capellades.cat
X-WR-TIMEZONE:Europe/Madrid
DESCRIPTION:
URI:https://www.capellades.cat/actualitat/agenda/excursio-de-la-penya-blaugrana-a-la-maternitat-delna.html
CLASS:PUBLIC
END:VEVENT
END:VCALENDAR
