BEGIN:VCALENDAR
VERSION:2.0
CALSCALE:GREGORIAN
PRODID:-//Diputació de Barcelona//DibaCMS//EN
BEGIN:VEVENT
UID:3242
DTSTAMP:20260422T052524
DTSTART:20180324T210000
DTEND:20180324T230000
SUMMARY:Sopar de la fam
LOCATION:
METHOD:PUBLISH
X-WR-CALNAME:capellades@capellades.cat
X-WR-TIMEZONE:Europe/Madrid
DESCRIPTION:A les nou de la nit, el divendres 23 de març, es farà una nova edició del Sopar de la Fam.

URI:https://www.capellades.cat/actualitat/agenda/sopar-de-la-fam.html
CLASS:PUBLIC
END:VEVENT
END:VCALENDAR
