BEGIN:VCALENDAR
VERSION:2.0
CALSCALE:GREGORIAN
PRODID:-//Diputació de Barcelona//DibaCMS//EN
BEGIN:VEVENT
UID:3241
DTSTAMP:20260422T065804
DTSTART:20180323T200000
DTEND:20180323T210000
SUMMARY:Cinefòrum Josep Romanyà Montcada
LOCATION:C/ del Fossar, 4 08786 Capellades
METHOD:PUBLISH
X-WR-CALNAME:capellades@capellades.cat
X-WR-TIMEZONE:Europe/Madrid
DESCRIPTION:En el Cinefòum Josep Romanyà i Montcada es projectarà el divendres 23 de març a les 8 del vespre "Figuras Ocultas".

URI:https://www.capellades.cat/actualitat/agenda/3241-cineforum-josep-romanya-montcada.html
CLASS:PUBLIC
END:VEVENT
END:VCALENDAR
