BEGIN:VCALENDAR
VERSION:2.0
CALSCALE:GREGORIAN
PRODID:-//Diputació de Barcelona//DibaCMS//EN
BEGIN:VEVENT
UID:3240
DTSTAMP:20260422T140629
DTSTART:20180323T193000
DTEND:20180323T203000
SUMMARY:Dia Mundial de la Poesia
LOCATION:
METHOD:PUBLISH
X-WR-CALNAME:capellades@capellades.cat
X-WR-TIMEZONE:Europe/Madrid
DESCRIPTION:I, aquest divendres, amb motiu del dia mundial de la poesia, Joan Seus i Margarida Bernús presentaran textos de poetes capelladins.

URI:https://www.capellades.cat/actualitat/agenda/dia-mundial-de-la-poesia.html
CLASS:PUBLIC
END:VEVENT
END:VCALENDAR
