BEGIN:VCALENDAR
VERSION:2.0
CALSCALE:GREGORIAN
PRODID:-//Diputació de Barcelona//DibaCMS//EN
BEGIN:VEVENT
UID:3239
DTSTAMP:20260421T113549
DTSTART:20180322T180000
DTEND:20180322T200000
SUMMARY:Segona edició del Bingo de Cal Ponet
LOCATION:
METHOD:PUBLISH
X-WR-CALNAME:capellades@capellades.cat
X-WR-TIMEZONE:Europe/Madrid
DESCRIPTION:Aquest 22 de març es farà la segona edició del Bingo de Cal Ponet.

URI:https://www.capellades.cat/actualitat/agenda/segona-edicio-del-bingo-de-cal-ponet.html
CLASS:PUBLIC
END:VEVENT
END:VCALENDAR
