BEGIN:VCALENDAR
VERSION:2.0
CALSCALE:GREGORIAN
PRODID:-//Diputació de Barcelona//DibaCMS//EN
BEGIN:VEVENT
UID:3238
DTSTAMP:20260422T053102
DTSTART:20180327T180000
DTEND:20180327T190000
SUMMARY:Tarda de cinema
LOCATION:C/ Pilar, 2 08786 Capellades
METHOD:PUBLISH
X-WR-CALNAME:capellades@capellades.cat
X-WR-TIMEZONE:Europe/Madrid
DESCRIPTION:Aquest mes de març la Biblioteca El Safareig proposa una nova tarda de cinema.

URI:https://www.capellades.cat/actualitat/agenda/3238-tarda-de-cinema.html
CLASS:PUBLIC
END:VEVENT
END:VCALENDAR
