BEGIN:VCALENDAR
VERSION:2.0
CALSCALE:GREGORIAN
PRODID:-//Diputació de Barcelona//DibaCMS//EN
BEGIN:VEVENT
UID:3237
DTSTAMP:20260422T133718
DTSTART:20180323T180000
DTEND:20180323T180000
SUMMARY:Cada divendres "Emociona't" a la Biblioteca El Safareig
LOCATION:
METHOD:PUBLISH
X-WR-CALNAME:capellades@capellades.cat
X-WR-TIMEZONE:Europe/Madrid
DESCRIPTION:La Biblioteca El Safareig cada divendres a les 6 de la tarda proposa "Emociona't".

URI:https://www.capellades.cat/actualitat/agenda/3237-cada-divendres-emocionat-a-la-biblioteca-el-safareig.html
CLASS:PUBLIC
END:VEVENT
END:VCALENDAR
