BEGIN:VCALENDAR
VERSION:2.0
CALSCALE:GREGORIAN
PRODID:-//Diputació de Barcelona//DibaCMS//EN
BEGIN:VEVENT
UID:3236
DTSTAMP:20260422T005530
DTSTART:20180309T180000
DTEND:20180309T190000
SUMMARY:Cada divendres "Emociona't" a la Biblioteca El Safareig
LOCATION:C/ Pilar, 2 08786 Capellades
METHOD:PUBLISH
X-WR-CALNAME:capellades@capellades.cat
X-WR-TIMEZONE:Europe/Madrid
DESCRIPTION:La Biblioteca El Safareig cada divendres a les 6 de la tarda proposa "Emociona't".

URI:https://www.capellades.cat/actualitat/agenda/cada-divendres-emocionat-a-la-biblioteca-el-safareig.html
CLASS:PUBLIC
END:VEVENT
END:VCALENDAR
