BEGIN:VCALENDAR
VERSION:2.0
CALSCALE:GREGORIAN
PRODID:-//Diputació de Barcelona//DibaCMS//EN
BEGIN:VEVENT
UID:3235
DTSTAMP:20260421T144852
DTSTART:20180320T180000
DTEND:20180320T190000
SUMMARY:Hora del Conte especial 1 a 3 anys
LOCATION:C/ Pilar, 2 08786 Capellades
METHOD:PUBLISH
X-WR-CALNAME:capellades@capellades.cat
X-WR-TIMEZONE:Europe/Madrid
DESCRIPTION:La Biblioteca El Safareig ha organitzat una Hora del Conte especial per a nens i nens d'1 a 3 anys.

URI:https://www.capellades.cat/actualitat/agenda/hora-del-conte-especial-1-a-3-anys.html
CLASS:PUBLIC
END:VEVENT
END:VCALENDAR
