BEGIN:VCALENDAR
VERSION:2.0
CALSCALE:GREGORIAN
PRODID:-//Diputació de Barcelona//DibaCMS//EN
BEGIN:VEVENT
UID:3234
DTSTAMP:20260421T113619
DTSTART:20180318T180000
DTEND:20180318T193000
SUMMARY:Xarxa presenta Cösmix
LOCATION:
METHOD:PUBLISH
X-WR-CALNAME:capellades@capellades.cat
X-WR-TIMEZONE:Europe/Madrid
DESCRIPTION:Xarxa Capellades presenta l'espectacle de clown "Cösmix" de la comanyia Teatre Mòbil.

URI:https://www.capellades.cat/actualitat/agenda/xarxa-presenta-cosmix.html
CLASS:PUBLIC
END:VEVENT
END:VCALENDAR
