BEGIN:VCALENDAR
VERSION:2.0
CALSCALE:GREGORIAN
PRODID:-//Diputació de Barcelona//DibaCMS//EN
BEGIN:VEVENT
UID:3233
DTSTAMP:20260421T205358
DTSTART:20180318T130000
DTEND:20180318T133000
SUMMARY:Inauguració de l'exposició "Nosaltres & l'estat de les coses"
LOCATION:Pau Casals, 10 08786 Capellades
METHOD:PUBLISH
X-WR-CALNAME:capellades@capellades.cat
X-WR-TIMEZONE:Europe/Madrid
DESCRIPTION:Francesca Llopis
 
Inauguració: diumenge 18 de març a les 13.30h
 

URI:https://www.capellades.cat/actualitat/agenda/inauguracio-de-lexposicio-nosaltres-and-lestat-de-les-coses.html
CLASS:PUBLIC
END:VEVENT
END:VCALENDAR
