BEGIN:VCALENDAR
VERSION:2.0
CALSCALE:GREGORIAN
PRODID:-//Diputació de Barcelona//DibaCMS//EN
BEGIN:VEVENT
UID:3232
DTSTAMP:20260422T075243
DTSTART:20180318T120000
DTEND:20180318T130000
SUMMARY:Workshop d'origata
LOCATION:Pau Casals, 10 08786 Capellades
METHOD:PUBLISH
X-WR-CALNAME:capellades@capellades.cat
X-WR-TIMEZONE:Europe/Madrid
DESCRIPTION:Taller de “ORIGATA” al Museu Molí Paperer de Capellades, a càrrec de: Origata Design Institute.

Serà el diumenge 18 de març de 12 a 13.30h. (11h. visita comentada al Museu Molí Paperer )
Entrada Gratuïta. Places limitades (30 participants)
Inscripcions: info@mmp-capellades.net

Organitza: Japan Foundation i Museu Molí Paperer de Capellades. Amb la col·laboració: Consulat General de Japó a Barcelona.

URI:https://www.capellades.cat/actualitat/agenda/workshop-dorigata.html
CLASS:PUBLIC
END:VEVENT
END:VCALENDAR
