BEGIN:VCALENDAR
VERSION:2.0
CALSCALE:GREGORIAN
PRODID:-//Diputació de Barcelona//DibaCMS//EN
BEGIN:VEVENT
UID:3230
DTSTAMP:20260421T125801
DTSTART:20180317T190000
DTEND:20180317T210000
SUMMARY:Concert de Jazz
LOCATION:C/ del Fossar, 4 08786 Capellades
METHOD:PUBLISH
X-WR-CALNAME:capellades@capellades.cat
X-WR-TIMEZONE:Europe/Madrid
DESCRIPTION:Concert de Jazz a Paper de Música amb Valentí Moya & Joan Pau Cumellas Quartet.

URI:https://www.capellades.cat/actualitat/agenda/concert-de-jazz.html
CLASS:PUBLIC
END:VEVENT
END:VCALENDAR
