BEGIN:VCALENDAR
VERSION:2.0
CALSCALE:GREGORIAN
PRODID:-//Diputació de Barcelona//DibaCMS//EN
BEGIN:VEVENT
UID:3227
DTSTAMP:20260421T121820
DTSTART:20180317T123000
DTEND:20180317T130000
SUMMARY:Inauguració Exposició Fotogràfica de l'Agrupació Fotogràfica Capellades
LOCATION:C/ D'Oló 08786 Capellades
METHOD:PUBLISH
X-WR-CALNAME:capellades@capellades.cat
X-WR-TIMEZONE:Europe/Madrid
DESCRIPTION:L'Agrupació Fotogràfica Capellades organitza una exposició amb les imatges dels seus associats. 

URI:https://www.capellades.cat/actualitat/agenda/inauguracio-exposicio-fotografica-de-lagrupacio-fotografica-capellades.html
CLASS:PUBLIC
END:VEVENT
END:VCALENDAR
