BEGIN:VCALENDAR
VERSION:2.0
CALSCALE:GREGORIAN
PRODID:-//Diputació de Barcelona//DibaCMS//EN
BEGIN:VEVENT
UID:3226
DTSTAMP:20260421T132453
DTSTART:20180315T200000
DTEND:20180315T210000
SUMMARY:Reunió informativa del Casal de Setmana Santa
LOCATION:
METHOD:PUBLISH
X-WR-CALNAME:capellades@capellades.cat
X-WR-TIMEZONE:Europe/Madrid
DESCRIPTION:El dijous 15 de març es fa la reunió informativa per a les persones que s'han inscrit al Casal de Setmana Santa organitzat per l'Esplai Aliret.

 

URI:https://www.capellades.cat/actualitat/agenda/reunio-informativa-del-casal-de-setmana-santa.html
CLASS:PUBLIC
END:VEVENT
END:VCALENDAR
