BEGIN:VCALENDAR
VERSION:2.0
CALSCALE:GREGORIAN
PRODID:-//Diputació de Barcelona//DibaCMS//EN
BEGIN:VEVENT
UID:3225
DTSTAMP:20260421T115859
DTSTART:20180311T090000
DTEND:20180311T150000
SUMMARY:1a. fase de l'Open AGEGCAT
LOCATION:Avda. Maties Guasch 08786 Capellades
METHOD:PUBLISH
X-WR-CALNAME:capellades@capellades.cat
X-WR-TIMEZONE:Europe/Madrid
DESCRIPTION:Aquest diumenge Capellades acollirà la primera fase de l'Open AGEGCAT de l'Associació de Gimnàstica Estètica de Grup de Catalunya.

URI:https://www.capellades.cat/actualitat/agenda/1a-fase-de-lopen-agegcat.html
CLASS:PUBLIC
END:VEVENT
END:VCALENDAR
