BEGIN:VCALENDAR
VERSION:2.0
CALSCALE:GREGORIAN
PRODID:-//Diputació de Barcelona//DibaCMS//EN
BEGIN:VEVENT
UID:3224
DTSTAMP:20260422T032417
DTSTART:20180316T180000
DTEND:20180316T190000
SUMMARY:Storytelling: Conte en anglès
LOCATION:C/ Pilar, 2 08786 Capellades
METHOD:PUBLISH
X-WR-CALNAME:capellades@capellades.cat
X-WR-TIMEZONE:Europe/Madrid
DESCRIPTION:Segona edició de l'storytelling, en aquesta ocasió amb l'escola d'anglès de Capellades New Trends.

URI:https://www.capellades.cat/actualitat/agenda/storytelling-conte-en-angles.html
CLASS:PUBLIC
END:VEVENT
END:VCALENDAR
