BEGIN:VCALENDAR
VERSION:2.0
CALSCALE:GREGORIAN
PRODID:-//Diputació de Barcelona//DibaCMS//EN
BEGIN:VEVENT
UID:3223
DTSTAMP:20260419T165947
DTSTART:20180314T190000
DTEND:20180314T200000
SUMMARY:Xerrada Nutrició Saludable: Aliments i depuració
LOCATION:C/ Pilar, 2 08786 Capellades
METHOD:PUBLISH
X-WR-CALNAME:capellades@capellades.cat
X-WR-TIMEZONE:Europe/Madrid
DESCRIPTION:La Biblioteca El Safareig organitza dues xerrades sobre Nutrició Saludable.

URI:https://www.capellades.cat/actualitat/agenda/xerrada-nutricio-saludable-aliments-i-depuracio.html
CLASS:PUBLIC
END:VEVENT
END:VCALENDAR
