BEGIN:VCALENDAR
VERSION:2.0
CALSCALE:GREGORIAN
PRODID:-//Diputació de Barcelona//DibaCMS//EN
BEGIN:VEVENT
UID:3222
DTSTAMP:20260419T182429
DTSTART:20180313T180000
DTEND:20180313T190000
SUMMARY:Laboratori de Lectura: El llop ha tornat
LOCATION:C/ Pilar, 2 08786 Capellades
METHOD:PUBLISH
X-WR-CALNAME:capellades@capellades.cat
X-WR-TIMEZONE:Europe/Madrid
DESCRIPTION:Nou Laboratori de Lectura, en aquest cas amb "El llop ha tornat".

URI:https://www.capellades.cat/actualitat/agenda/laboratori-de-lectura-el-llop-ha-tornat.html
CLASS:PUBLIC
END:VEVENT
END:VCALENDAR
