BEGIN:VCALENDAR
VERSION:2.0
CALSCALE:GREGORIAN
PRODID:-//Diputació de Barcelona//DibaCMS//EN
BEGIN:VEVENT
UID:3218
DTSTAMP:20260422T021823
DTSTART:20180307T180000
DTEND:20180307T200000
SUMMARY:Conferència Laila Karrouch
LOCATION:
METHOD:PUBLISH
X-WR-CALNAME:capellades@capellades.cat
X-WR-TIMEZONE:Europe/Madrid
DESCRIPTION:Arrels i Branques, Associació Sociocultural per a la Cooperació al Desenvolupament, amb la col·laboració de l'Ajuntament i La Lliga, organitzen la conferència amb l'escriptora Laila Karrouch.

URI:https://www.capellades.cat/actualitat/agenda/conferencia-laila-karrouch.html
CLASS:PUBLIC
END:VEVENT
END:VCALENDAR
