BEGIN:VCALENDAR
VERSION:2.0
CALSCALE:GREGORIAN
PRODID:-//Diputació de Barcelona//DibaCMS//EN
BEGIN:VEVENT
UID:3216
DTSTAMP:20260421T115834
DTSTART:20180310T120000
DTEND:20180401T140000
SUMMARY:Caramelles '18
LOCATION:
METHOD:PUBLISH
X-WR-CALNAME:capellades@capellades.cat
X-WR-TIMEZONE:Europe/Madrid
DESCRIPTION:Vols venir el diumenge 1 d'abril a cantar les Caramelles?

URI:https://www.capellades.cat/actualitat/agenda/caramelles-18.html
CLASS:PUBLIC
END:VEVENT
END:VCALENDAR
