BEGIN:VCALENDAR
VERSION:2.0
CALSCALE:GREGORIAN
PRODID:-//Diputació de Barcelona//DibaCMS//EN
BEGIN:VEVENT
UID:3215
DTSTAMP:20260422T105209
DTSTART:20180305T090000
DTEND:20180316T150000
SUMMARY:Inscripcions obertes per al Casal de Setmana Santa
LOCATION:
METHOD:PUBLISH
X-WR-CALNAME:capellades@capellades.cat
X-WR-TIMEZONE:Europe/Madrid
DESCRIPTION:L’Esplai Aliret, en col·laboració amb l’Ajuntament de Capellades, organitza novament el Casal de Setmana Santa que enguany es titula “La Màquina del temps”.

URI:https://www.capellades.cat/actualitat/agenda/3215-inscripcions-obertes-per-al-casal-de-setmana-santa.html
CLASS:PUBLIC
END:VEVENT
END:VCALENDAR
