BEGIN:VCALENDAR
VERSION:2.0
CALSCALE:GREGORIAN
PRODID:-//Diputació de Barcelona//DibaCMS//EN
BEGIN:VEVENT
UID:3214
DTSTAMP:20260421T125726
DTSTART:20180311T180000
DTEND:20180311T200000
SUMMARY:Tarda de teatre amb Segi Mateu
LOCATION:
METHOD:PUBLISH
X-WR-CALNAME:capellades@capellades.cat
X-WR-TIMEZONE:Europe/Madrid
DESCRIPTION:Tal com es destaca a l'agenda d'activitats de la Societat La Lliga, "per tal de commemorar l’any Puig i Cadafalch, que se celebrà al llarg de l’any 2017 i una mica més enllà, amb els 150 anys del seu naixement, Teatre Obligatori, la Federació d’Ateneus de Catalunya i la XTAC presenten un espectacle teatral basat en la vida i obra del rellevant arquitecte, historiador i polític català. Puig i Cadafalch, un croquis pretén apropar la vessant més humana del personatge en forma d’un monòleg dramàtic construït a partir de fragments de les seves memòries i d’una selecció dels seus discursos més famosos".

URI:https://www.capellades.cat/actualitat/agenda/tarda-de-teatre-amb-segi-mateu.html
CLASS:PUBLIC
END:VEVENT
END:VCALENDAR
