BEGIN:VCALENDAR
VERSION:2.0
CALSCALE:GREGORIAN
PRODID:-//Diputació de Barcelona//DibaCMS//EN
BEGIN:VEVENT
UID:3213
DTSTAMP:20260421T214950
DTSTART:20180311T100000
DTEND:20180311T140000
SUMMARY:Mercat d'Antiguitats
LOCATION:
METHOD:PUBLISH
X-WR-CALNAME:capellades@capellades.cat
X-WR-TIMEZONE:Europe/Madrid
DESCRIPTION:Aquest segon diumenge de mes es fa una nova edició del Mercat d'Antiguitats.

URI:https://www.capellades.cat/actualitat/agenda/3213-mercat-dantiguitats.html
CLASS:PUBLIC
END:VEVENT
END:VCALENDAR
