BEGIN:VCALENDAR
VERSION:2.0
CALSCALE:GREGORIAN
PRODID:-//Diputació de Barcelona//DibaCMS//EN
BEGIN:VEVENT
UID:3212
DTSTAMP:20260422T080540
DTSTART:20180311T090000
DTEND:20180311T180000
SUMMARY:Ronda dels 100 Cims: La Mola
LOCATION:
METHOD:PUBLISH
X-WR-CALNAME:capellades@capellades.cat
X-WR-TIMEZONE:Europe/Madrid
DESCRIPTION:L'Associació d'Esports de Muntanya de Capellades obrirà una nova activitat. De forma bimensual, anirem fent sortides als diferents cims que formen la ronda dels 100 CIMS. Anomenarem aquesta activitat "KP'ls 100 Cims"
La primera proposta és per al diumenge 11 de marcç amb una ruta circular a LA MOLA DE SANT LLORENÇ DEL MUNT, des de Can Robert,

Nivell mig-baix. Temps aproximat de la sortida (viatge i caminada): 5 hores. Se sortirà PUNTUALS a les 8 del matí del Poliesportiu.

URI:https://www.capellades.cat/actualitat/agenda/ronda-dels-100-cims-la-mola.html
CLASS:PUBLIC
END:VEVENT
END:VCALENDAR
