BEGIN:VCALENDAR
VERSION:2.0
CALSCALE:GREGORIAN
PRODID:-//Diputació de Barcelona//DibaCMS//EN
BEGIN:VEVENT
UID:3210
DTSTAMP:20260421T145006
DTSTART:20180307T103000
DTEND:20180307T130000
SUMMARY:Visita Oficina Mòbil d'Atenció al Consumidor
LOCATION:
METHOD:PUBLISH
X-WR-CALNAME:capellades@capellades.cat
X-WR-TIMEZONE:Europe/Madrid
DESCRIPTION:Nova visita de l'Oficina Mòbil d'Atenció al Consumidor per atendre i resoldre els dubtes relacionats amb qüestions de consum: compra-venda, viatges, lloguers, telefonia...

URI:https://www.capellades.cat/actualitat/agenda/3210-visita-oficina-mobil-datencio-al-consumidor.html
CLASS:PUBLIC
END:VEVENT
END:VCALENDAR
