BEGIN:VCALENDAR
VERSION:2.0
CALSCALE:GREGORIAN
PRODID:-//Diputació de Barcelona//DibaCMS//EN
BEGIN:VEVENT
UID:3208
DTSTAMP:20260421T155846
DTSTART:20180303T110000
DTEND:20180303T130000
SUMMARY:Portes obertes a l'Escola Mare del Diví Pastor
LOCATION:
METHOD:PUBLISH
X-WR-CALNAME:capellades@capellades.cat
X-WR-TIMEZONE:Europe/Madrid
DESCRIPTION:L'Escola Mare del Diví Pastor organitza una jornada de portes obertes per aquest dissabte al matí d'11 a 13 hores.

URI:https://www.capellades.cat/actualitat/agenda/portes-obertes-a-lescola-mare-del-divi-pastor.html
CLASS:PUBLIC
END:VEVENT
END:VCALENDAR
