BEGIN:VCALENDAR
VERSION:2.0
CALSCALE:GREGORIAN
PRODID:-//Diputació de Barcelona//DibaCMS//EN
BEGIN:VEVENT
UID:3206
DTSTAMP:20260421T204444
DTSTART:20180305T183000
DTEND:20180305T193000
SUMMARY:Xerrada: Cal una vaga feminista?
LOCATION:C/ Pilar, 2 08786 Capellades
METHOD:PUBLISH
X-WR-CALNAME:capellades@capellades.cat
X-WR-TIMEZONE:Europe/Madrid
DESCRIPTION:Aquest dilluns finalment es podrà fer aquesta xerrada, suspesa dimecres passat pel temporal de neu.

URI:https://www.capellades.cat/actualitat/agenda/xerrada-cal-una-vaga-feminista.html
CLASS:PUBLIC
END:VEVENT
END:VCALENDAR
