BEGIN:VCALENDAR
VERSION:2.0
CALSCALE:GREGORIAN
PRODID:-//Diputació de Barcelona//DibaCMS//EN
BEGIN:VEVENT
UID:3205
DTSTAMP:20260421T131528
DTSTART:20180306T180000
DTEND:20180306T190000
SUMMARY:Reunió informativa Escola Marquès de la Pobla
LOCATION:Pg. Miquel i Mas, 19 08786 Capellades
METHOD:PUBLISH
X-WR-CALNAME:capellades@capellades.cat
X-WR-TIMEZONE:Europe/Madrid
DESCRIPTION:Després de les dues sessions de portes obertes, l'escola Marquès de la Pobla convoca a totes les persones interessades a conèixer el funcionament del centre a aquesta trobda informativa.

URI:https://www.capellades.cat/actualitat/agenda/reunio-informativa-escola-marques-de-la-pobla.html
CLASS:PUBLIC
END:VEVENT
END:VCALENDAR
