BEGIN:VCALENDAR
VERSION:2.0
CALSCALE:GREGORIAN
PRODID:-//Diputació de Barcelona//DibaCMS//EN
BEGIN:VEVENT
UID:3204
DTSTAMP:20260421T142630
DTSTART:20180306T120000
DTEND:20180306T173000
SUMMARY:Segona jornada de Portes Obertes a l'Escola Marquès de la Pobla
LOCATION:Passeig Miquel i Mas, 19 08786 Capellades
METHOD:PUBLISH
X-WR-CALNAME:capellades@capellades.cat
X-WR-TIMEZONE:Europe/Madrid
DESCRIPTION:L'escola Marquès de la Pobla fa una segona jornada de portes obertes el dimarts 6 de març des de les 12 del migida fins dos quarts de sis de la tarda.

URI:https://www.capellades.cat/actualitat/agenda/segona-jornada-de-portes-obertes-a-lescola-marques-de-la-pobla.html
CLASS:PUBLIC
END:VEVENT
END:VCALENDAR
