BEGIN:VCALENDAR
VERSION:2.0
CALSCALE:GREGORIAN
PRODID:-//Diputació de Barcelona//DibaCMS//EN
BEGIN:VEVENT
UID:3203
DTSTAMP:20260422T050358
DTSTART:20180303T110000
DTEND:20180303T130000
SUMMARY:Jornada de Portes Obertes a l'Escola Marquès de la Pobla
LOCATION:Pg. Miquel i Mas, 19 08786 Capellades
METHOD:PUBLISH
X-WR-CALNAME:capellades@capellades.cat
X-WR-TIMEZONE:Europe/Madrid
DESCRIPTION:Abans de les matriculacions per al proper curs, es pot visitar l'escola per conèixer el centre per dins.

URI:https://www.capellades.cat/actualitat/agenda/jornada-de-portes-obertes-a-lescola-marques-de-la-pobla.html
CLASS:PUBLIC
END:VEVENT
END:VCALENDAR
