BEGIN:VCALENDAR
VERSION:2.0
CALSCALE:GREGORIAN
PRODID:-//Diputació de Barcelona//DibaCMS//EN
BEGIN:VEVENT
UID:3202
DTSTAMP:20260422T085828
DTSTART:20180306T180000
DTEND:20180306T190000
SUMMARY:Hora del Conte amb Lídia Clua
LOCATION:C/ Pilar, 2 08786 Capellades
METHOD:PUBLISH
X-WR-CALNAME:capellades@capellades.cat
X-WR-TIMEZONE:Europe/Madrid
DESCRIPTION:La contista Lídia Clua torna a la Biblioteca El Safareig amb un conte per al Dia de la Dona, anomenat "I va moure muntanyes".

URI:https://www.capellades.cat/actualitat/agenda/hora-del-conte-amb-lidia-clua.html
CLASS:PUBLIC
END:VEVENT
END:VCALENDAR
