BEGIN:VCALENDAR
VERSION:2.0
CALSCALE:GREGORIAN
PRODID:-//Diputació de Barcelona//DibaCMS//EN
BEGIN:VEVENT
UID:3187
DTSTAMP:20260421T142708
DTSTART:20180227T190000
DTEND:20180227T200000
SUMMARY:Cal fer una vaga feminista el 8 de març?
LOCATION:
METHOD:PUBLISH
X-WR-CALNAME:capellades@capellades.cat
X-WR-TIMEZONE:Europe/Madrid
DESCRIPTION:L'Ajuntament de Capellades i la Taula de Dones organitzen un debat per parlar sobre la vaga feminista organitzada per al dia 8 de març. Serà a la sala d'actes de la Biblitoeca a les set de la tarda.

URI:https://www.capellades.cat/actualitat/agenda/cal-fer-una-vaga-feminista-el-8-de-marc.html
CLASS:PUBLIC
END:VEVENT
END:VCALENDAR
