BEGIN:VCALENDAR
VERSION:2.0
CALSCALE:GREGORIAN
PRODID:-//Diputació de Barcelona//DibaCMS//EN
BEGIN:VEVENT
UID:3184
DTSTAMP:20260421T231109
DTSTART:20180225T170000
DTEND:20180225T180000
SUMMARY:Espectacle de clown de carrer amb Bergamotto Show
LOCATION:
METHOD:PUBLISH
X-WR-CALNAME:capellades@capellades.cat
X-WR-TIMEZONE:Europe/Madrid
DESCRIPTION:A les cinc de la tarda, a la plaça Catalunya, es farà l'espectacle de clown de carrer "Bergamotto Show".

URI:https://www.capellades.cat/actualitat/agenda/espectacle-de-clown-de-carrer-amb-bergamotto-show.html
CLASS:PUBLIC
END:VEVENT
END:VCALENDAR
