BEGIN:VCALENDAR
VERSION:2.0
CALSCALE:GREGORIAN
PRODID:-//Diputació de Barcelona//DibaCMS//EN
BEGIN:VEVENT
UID:3183
DTSTAMP:20260421T132129
DTSTART:20180225T133000
DTEND:20180225T140000
SUMMARY:Tastet Cultural de la Casa d'Andalusia
LOCATION:
METHOD:PUBLISH
X-WR-CALNAME:capellades@capellades.cat
X-WR-TIMEZONE:Europe/Madrid
DESCRIPTION:La Casa d'Andalusia proposa un tastet cultural amb l'actuació dels grups "Una tarde de domingo" i el Coro "Morenita de la Sierra".

URI:https://www.capellades.cat/actualitat/agenda/tastet-cultural-de-la-casa-dandalusia.html
CLASS:PUBLIC
END:VEVENT
END:VCALENDAR
