BEGIN:VCALENDAR
VERSION:2.0
CALSCALE:GREGORIAN
PRODID:-//Diputació de Barcelona//DibaCMS//EN
BEGIN:VEVENT
UID:3181
DTSTAMP:20260421T202949
DTSTART:20180225T123000
DTEND:20180225T133000
SUMMARY:Concert Vermut amb el grup Doble Cape + Lemon DJ's
LOCATION:
METHOD:PUBLISH
X-WR-CALNAME:capellades@capellades.cat
X-WR-TIMEZONE:Europe/Madrid
DESCRIPTION:The Lemon Day es sitúa un any més a les escales de la Piscina Blava de Capellades amb Vermut i música.

URI:https://www.capellades.cat/actualitat/agenda/concert-vermut-amb-el-grup-doble-cape--lemon-djs.html
CLASS:PUBLIC
END:VEVENT
END:VCALENDAR
