BEGIN:VCALENDAR
VERSION:2.0
CALSCALE:GREGORIAN
PRODID:-//Diputació de Barcelona//DibaCMS//EN
BEGIN:VEVENT
UID:3180
DTSTAMP:20260421T113843
DTSTART:20180225T120000
DTEND:20180225T150000
SUMMARY:Actuació de la Catalan Bagpipe Band
LOCATION:
METHOD:PUBLISH
X-WR-CALNAME:capellades@capellades.cat
X-WR-TIMEZONE:Europe/Madrid
DESCRIPTION:Espectacle musical itinerant que sortirà a les 12 del migdia de la plaça Catalunya cap el carrer Pilar, plaça Verdaguer i carrer Major.

A les dues del migdia es tornarà a repetir des del carrer Abat Muntadas, carrer Major i plaça Verdaguer.

URI:https://www.capellades.cat/actualitat/agenda/actuacio-de-la-catalan-bagpipe-band.html
CLASS:PUBLIC
END:VEVENT
END:VCALENDAR
