BEGIN:VCALENDAR
VERSION:2.0
CALSCALE:GREGORIAN
PRODID:-//Diputació de Barcelona//DibaCMS//EN
BEGIN:VEVENT
UID:3179
DTSTAMP:20260422T033552
DTSTART:20180225T113000
DTEND:20180225T133000
SUMMARY:Espectacle "Transhumància"
LOCATION:
METHOD:PUBLISH
X-WR-CALNAME:capellades@capellades.cat
X-WR-TIMEZONE:Europe/Madrid
DESCRIPTION:La Companyia Xip Xap presenta al Mercat Figueter l'espectacle itinerant "Transhumància".

URI:https://www.capellades.cat/actualitat/agenda/espectacle-transhumancia.html
CLASS:PUBLIC
END:VEVENT
END:VCALENDAR
