BEGIN:VCALENDAR
VERSION:2.0
CALSCALE:GREGORIAN
PRODID:-//Diputació de Barcelona//DibaCMS//EN
BEGIN:VEVENT
UID:3177
DTSTAMP:20260421T144904
DTSTART:20180225T110000
DTEND:20180225T113000
SUMMARY:Inauguració del Mercat Figueter
LOCATION:
METHOD:PUBLISH
X-WR-CALNAME:capellades@capellades.cat
X-WR-TIMEZONE:Europe/Madrid
DESCRIPTION:La inauguració del Mercat Figueter es farà el diumenge 25 a les 11 del matí a l'estand de l'Ajuntament de Capellades, amb la presència de tots els regidors de l'Ajuntament.

Intervendran l'Alcalde, Aleix Auber; el regidor de Promoció Econòmica, Àngel Soteras i el Diputat Delegat de Comerç de la Diputació de Barcelona, Isaac Albert Agut.

URI:https://www.capellades.cat/actualitat/agenda/inauguracio-del-mercat-figueter.html
CLASS:PUBLIC
END:VEVENT
END:VCALENDAR
