BEGIN:VCALENDAR
VERSION:2.0
CALSCALE:GREGORIAN
PRODID:-//Diputació de Barcelona//DibaCMS//EN
BEGIN:VEVENT
UID:3175
DTSTAMP:20260421T172300
DTSTART:20180225T100000
DTEND:20180225T200000
SUMMARY:L'Anoia, del camp a la taula
LOCATION:
METHOD:PUBLISH
X-WR-CALNAME:capellades@capellades.cat
X-WR-TIMEZONE:Europe/Madrid
DESCRIPTION:"L'Anoia, del camp a la taula", és una mostra de productors de vins, caves, cerveses artesanes i productes de l'Anoia. 

URI:https://www.capellades.cat/actualitat/agenda/lanoia-del-camp-a-la-taula.html
CLASS:PUBLIC
END:VEVENT
END:VCALENDAR
