BEGIN:VCALENDAR
VERSION:2.0
CALSCALE:GREGORIAN
PRODID:-//Diputació de Barcelona//DibaCMS//EN
BEGIN:VEVENT
UID:3174
DTSTAMP:20260421T214916
DTSTART:20180225T100000
DTEND:20180225T200000
SUMMARY:Mostra de Comerç i Serveis
LOCATION:
METHOD:PUBLISH
X-WR-CALNAME:capellades@capellades.cat
X-WR-TIMEZONE:Europe/Madrid
DESCRIPTION:El mercat Figueter de Capellades acollirà una mostra de comerç i serveis amb parades d'arreu, la participació del comerç local i entitats de la vila.

 

URI:https://www.capellades.cat/actualitat/agenda/mostra-de-comerc-i-serveis.html
CLASS:PUBLIC
END:VEVENT
END:VCALENDAR
