BEGIN:VCALENDAR
VERSION:2.0
CALSCALE:GREGORIAN
PRODID:-//Diputació de Barcelona//DibaCMS//EN
BEGIN:VEVENT
UID:3173
DTSTAMP:20260421T190401
DTSTART:20180224T131500
DTEND:20180224T193000
SUMMARY:Dissabte, vine a veure els diferents partits del Club Futbol Sala Capellades
LOCATION:
METHOD:PUBLISH
X-WR-CALNAME:capellades@capellades.cat
X-WR-TIMEZONE:Europe/Madrid
DESCRIPTION:Aquest dissabte el CF Sala Capellades jugarà:

13:15 ESCUELA CFS Capellades - C.F.S. Esparreguera

14:15 Dorsan Filtracions - CFS Òdena (Cadet)

15:30 Bar Yuyu - FS Montbui (Juvenil)

16:45 U.E La Torre Capellades- C.F.S. Castellgalí (Sénior B)

18:00 Rest. Bar Biarritz - F. Ath. Vilatorrada

URI:https://www.capellades.cat/actualitat/agenda/dissabte-vine-a-veure-els-diferents-partits-del-club-futbol-sala-capellades.html
CLASS:PUBLIC
END:VEVENT
END:VCALENDAR
