BEGIN:VCALENDAR
VERSION:2.0
CALSCALE:GREGORIAN
PRODID:-//Diputació de Barcelona//DibaCMS//EN
BEGIN:VEVENT
UID:3164
DTSTAMP:20260421T130142
DTSTART:20180217T233000
DTEND:20180218T010000
SUMMARY:Carnestoltes jove
LOCATION:
METHOD:PUBLISH
X-WR-CALNAME:capellades@capellades.cat
X-WR-TIMEZONE:Europe/Madrid
DESCRIPTION:Fes-Te Jove Kp i l'Ajuntament de Capellades organitzen el Carnestoltes per als Joves.

URI:https://www.capellades.cat/actualitat/agenda/carnestoltes-jove.html
CLASS:PUBLIC
END:VEVENT
END:VCALENDAR
