BEGIN:VCALENDAR
VERSION:2.0
CALSCALE:GREGORIAN
PRODID:-//Diputació de Barcelona//DibaCMS//EN
BEGIN:VEVENT
UID:3159
DTSTAMP:20260419T160211
DTSTART:20180224T103000
DTEND:20180224T133000
SUMMARY:XXXIè. Concurs de Pintura Ràpida Joan Campoy
LOCATION:
METHOD:PUBLISH
X-WR-CALNAME:capellades@capellades.cat
X-WR-TIMEZONE:Europe/Madrid
DESCRIPTION:El dissabte 24 de febrer es fa l'edició número 31 del Concurs de Pintura Ràpida Joan Campoy.

URI:https://www.capellades.cat/actualitat/agenda/3159-xxxie-concurs-de-pintura-rapida-joan-campoy.html
CLASS:PUBLIC
END:VEVENT
END:VCALENDAR
