BEGIN:VCALENDAR
VERSION:2.0
CALSCALE:GREGORIAN
PRODID:-//Diputació de Barcelona//DibaCMS//EN
BEGIN:VEVENT
UID:3157
DTSTAMP:20260422T003436
DTSTART:20180220T210000
DTEND:20180220T220000
SUMMARY:Audiciona't 32
LOCATION:C/ Divina Pastora, 10 08786 Capellades
METHOD:PUBLISH
X-WR-CALNAME:capellades@capellades.cat
X-WR-TIMEZONE:Europe/Madrid
DESCRIPTION:Nou Audiciona't organitzat des de l'Escola de Música de Capellades.

URI:https://www.capellades.cat/actualitat/agenda/audicionat-32.html
CLASS:PUBLIC
END:VEVENT
END:VCALENDAR
